BEGIN:VCALENDAR
VERSION:2.0
PRODID:-//ChoralSong - ECPv6.10.2//NONSGML v1.0//EN
CALSCALE:GREGORIAN
METHOD:PUBLISH
X-ORIGINAL-URL:https://choralsong.org
X-WR-CALDESC:Events for ChoralSong
REFRESH-INTERVAL;VALUE=DURATION:PT1H
X-Robots-Tag:noindex
X-PUBLISHED-TTL:PT1H
BEGIN:VTIMEZONE
TZID:UTC
BEGIN:STANDARD
TZOFFSETFROM:+0000
TZOFFSETTO:+0000
TZNAME:UTC
DTSTART:20240101T000000
END:STANDARD
END:VTIMEZONE
BEGIN:VEVENT
DTSTART;TZID=UTC:20240507T190000
DTEND;TZID=UTC:20240507T210000
DTSTAMP:20260426T041610
CREATED:20230529T080906Z
LAST-MODIFIED:20240410T231251Z
UID:4466-1715108400-1715115600@choralsong.org
SUMMARY:Northern Lights & Summer Nights
DESCRIPTION:Our Spring concert opens with a collection of a cappella pieces designed to capture the crisp\, pure beauty of the northern lights in sound.  The highlight of this section is a stunning work by Norwegian composer Ola Gjeilo appropriately entitled Northern Lights\, encompassed by a collection of works by John Shepherd\, Gabriel Fauré and William Harris. \nThe concert then continues with a toe-tapping collection of ancient songs entitled Medieval Summer Nights.  After a suite of early Disney songs that children of all ages will know and love\, we’ll present an assortment of soft jazz works that will make anyone long for the hazy days of summer.  In closing\, we are thrilled to perform an outstanding major work by Libby Larsen designed to recreate the days of the American pioneers.  With movements entitled “Comin’ to Town”\, “Beneath These Alien Stars\,” and “The Hoopla!”\, The Settling Years is sure to send you out the door with a smile on your face!  \nBuy Tickets
URL:https://choralsong.org/concert/northern-lights-and-summer-nights/
LOCATION:Broadmoor Community Church\, 315 Lake Ave\, Colorado Springs\, CO\, United States
CATEGORIES:Concerts
ATTACH;FMTTYPE=image/png:https://choralsong.org/wp-content/uploads/2023/05/52D17CE6-2E1F-48E1-95DE-7D36A8635F6A.png
END:VEVENT
END:VCALENDAR