BEGIN:VCALENDAR
VERSION:2.0
PRODID:-//ChoralSong - ECPv6.10.2//NONSGML v1.0//EN
CALSCALE:GREGORIAN
METHOD:PUBLISH
X-WR-CALNAME:ChoralSong
X-ORIGINAL-URL:https://choralsong.org
X-WR-CALDESC:Events for ChoralSong
REFRESH-INTERVAL;VALUE=DURATION:PT1H
X-Robots-Tag:noindex
X-PUBLISHED-TTL:PT1H
BEGIN:VTIMEZONE
TZID:UTC
BEGIN:STANDARD
TZOFFSETFROM:+0000
TZOFFSETTO:+0000
TZNAME:UTC
DTSTART:20240101T000000
END:STANDARD
END:VTIMEZONE
BEGIN:VEVENT
DTSTART;TZID=UTC:20241005T150000
DTEND;TZID=UTC:20241005T170000
DTSTAMP:20260424T131325
CREATED:20240508T164519Z
LAST-MODIFIED:20240910T210443Z
UID:4755-1728140400-1728147600@choralsong.org
SUMMARY:Bachfest!
DESCRIPTION:Bachfest! will feature a variety of Johann Sebastian Bach’s music for chorus and orchestra. After the spectacular opening movement of the Magnificat\, ChoralSong will perform the beloved cantata Wachet Auf featuring soloists Jamal Sarikoki & David Price\, the motet Lobet den Herrn\, and a sampling of movements from some of Bach’s other well-loved works\, such as Ein Feste Burg and Jesu\, Joy of Man’s Desiring.  For a special treat\, in the very center of the concert\, the orchestra will perform the ever-popular Brandenburg Concerto #3. This will be an experience you do not want to miss! \nBuy Tickets    Subscription Package \n* Subscription Package enables patrons to subscribe to all three concerts *
URL:https://choralsong.org/concert/bachfest/
LOCATION:Grace & St. Stephens Episcopal Church\, 601 N Tejon St\, Colorado Springs\, CO\, 80903\, United States
CATEGORIES:Concerts
ATTACH;FMTTYPE=image/jpeg:https://choralsong.org/wp-content/uploads/2024/05/Ad-Bachfest-3-1.jpg
ORGANIZER;CN="ChoralSong":MAILTO:choralsongcs@gmail.com
END:VEVENT
END:VCALENDAR